BEGIN:VCALENDAR
VERSION:2.0
PRODID:-//Inside Chiswick - ECPv6.15.18//NONSGML v1.0//EN
CALSCALE:GREGORIAN
METHOD:PUBLISH
X-WR-CALNAME:Inside Chiswick
X-ORIGINAL-URL:https://insidechiswick.com
X-WR-CALDESC:Events for Inside Chiswick
REFRESH-INTERVAL;VALUE=DURATION:PT1H
X-Robots-Tag:noindex
X-PUBLISHED-TTL:PT1H
BEGIN:VTIMEZONE
TZID:Europe/London
BEGIN:DAYLIGHT
TZOFFSETFROM:+0000
TZOFFSETTO:+0100
TZNAME:BST
DTSTART:20250330T010000
END:DAYLIGHT
BEGIN:STANDARD
TZOFFSETFROM:+0100
TZOFFSETTO:+0000
TZNAME:GMT
DTSTART:20251026T010000
END:STANDARD
BEGIN:DAYLIGHT
TZOFFSETFROM:+0000
TZOFFSETTO:+0100
TZNAME:BST
DTSTART:20260329T010000
END:DAYLIGHT
BEGIN:STANDARD
TZOFFSETFROM:+0100
TZOFFSETTO:+0000
TZNAME:GMT
DTSTART:20261025T010000
END:STANDARD
BEGIN:DAYLIGHT
TZOFFSETFROM:+0000
TZOFFSETTO:+0100
TZNAME:BST
DTSTART:20270328T010000
END:DAYLIGHT
BEGIN:STANDARD
TZOFFSETFROM:+0100
TZOFFSETTO:+0000
TZNAME:GMT
DTSTART:20271031T010000
END:STANDARD
END:VTIMEZONE
BEGIN:VEVENT
DTSTART;TZID=Europe/London:20260407T000000
DTEND;TZID=Europe/London:20260418T235959
DTSTAMP:20260421T193942
CREATED:20260413T151527Z
LAST-MODIFIED:20260413T151527Z
UID:11564-1775520000-1776556799@insidechiswick.com
SUMMARY:Chiswick Calendar’s spring art exhibition 2026 - Clayton hotel Chiswick
DESCRIPTION:Louise Richards – Raspberry Fe Chiswick has an abundance of artists and The Chiswick Calendar celebrates their work twice a year with an exhibition at the Clayton hotel. This spring they are introducing some new artists into the mix. The exhibition of oils and watercolours\, photography and mix \nLocation: Clayton Hotel Chiswick\, 626 Chiswick High Rd\, W4 5RY
URL:https://insidechiswick.com/event/chiswick-calendars-spring-art-exhibition-2026-clayton-hotel-chiswick-3/
END:VEVENT
END:VCALENDAR