BEGIN:VCALENDAR
VERSION:2.0
PRODID:-//Inside Chiswick - ECPv6.15.18//NONSGML v1.0//EN
CALSCALE:GREGORIAN
METHOD:PUBLISH
X-WR-CALNAME:Inside Chiswick
X-ORIGINAL-URL:https://insidechiswick.com
X-WR-CALDESC:Events for Inside Chiswick
REFRESH-INTERVAL;VALUE=DURATION:PT1H
X-Robots-Tag:noindex
X-PUBLISHED-TTL:PT1H
BEGIN:VTIMEZONE
TZID:Europe/London
BEGIN:DAYLIGHT
TZOFFSETFROM:+0000
TZOFFSETTO:+0100
TZNAME:BST
DTSTART:20250330T010000
END:DAYLIGHT
BEGIN:STANDARD
TZOFFSETFROM:+0100
TZOFFSETTO:+0000
TZNAME:GMT
DTSTART:20251026T010000
END:STANDARD
BEGIN:DAYLIGHT
TZOFFSETFROM:+0000
TZOFFSETTO:+0100
TZNAME:BST
DTSTART:20260329T010000
END:DAYLIGHT
BEGIN:STANDARD
TZOFFSETFROM:+0100
TZOFFSETTO:+0000
TZNAME:GMT
DTSTART:20261025T010000
END:STANDARD
BEGIN:DAYLIGHT
TZOFFSETFROM:+0000
TZOFFSETTO:+0100
TZNAME:BST
DTSTART:20270328T010000
END:DAYLIGHT
BEGIN:STANDARD
TZOFFSETFROM:+0100
TZOFFSETTO:+0000
TZNAME:GMT
DTSTART:20271031T010000
END:STANDARD
END:VTIMEZONE
BEGIN:VEVENT
DTSTART;TZID=Europe/London:20260426T110000
DTEND;TZID=Europe/London:20260426T160000
DTSTAMP:20260421T195608
CREATED:20260413T151550Z
LAST-MODIFIED:20260413T151550Z
UID:11733-1777201200-1777219200@insidechiswick.com
SUMMARY:FoodSt - Old Market Place
DESCRIPTION:FoodSt market on 22 December promises to be something special. FoodSt is back on the fourth Sunday of every month\, enticing visitors to experience all of Chiswick’s independent shops\, cafes and restaurants. Don’t miss out on the freshest Egyptian falafel\, traditional Turkish gozleme\, Cape Mala \nLocation: The Old Market Place\, Old Market Pl\, Chiswick\, W42DR
URL:https://insidechiswick.com/event/foodst-old-market-place/
END:VEVENT
END:VCALENDAR