BEGIN:VCALENDAR
VERSION:2.0
PRODID:-//Inside Chiswick - ECPv6.15.18//NONSGML v1.0//EN
CALSCALE:GREGORIAN
METHOD:PUBLISH
X-WR-CALNAME:Inside Chiswick
X-ORIGINAL-URL:https://insidechiswick.com
X-WR-CALDESC:Events for Inside Chiswick
REFRESH-INTERVAL;VALUE=DURATION:PT1H
X-Robots-Tag:noindex
X-PUBLISHED-TTL:PT1H
BEGIN:VTIMEZONE
TZID:Europe/London
BEGIN:DAYLIGHT
TZOFFSETFROM:+0000
TZOFFSETTO:+0100
TZNAME:BST
DTSTART:20250330T010000
END:DAYLIGHT
BEGIN:STANDARD
TZOFFSETFROM:+0100
TZOFFSETTO:+0000
TZNAME:GMT
DTSTART:20251026T010000
END:STANDARD
BEGIN:DAYLIGHT
TZOFFSETFROM:+0000
TZOFFSETTO:+0100
TZNAME:BST
DTSTART:20260329T010000
END:DAYLIGHT
BEGIN:STANDARD
TZOFFSETFROM:+0100
TZOFFSETTO:+0000
TZNAME:GMT
DTSTART:20261025T010000
END:STANDARD
BEGIN:DAYLIGHT
TZOFFSETFROM:+0000
TZOFFSETTO:+0100
TZNAME:BST
DTSTART:20270328T010000
END:DAYLIGHT
BEGIN:STANDARD
TZOFFSETFROM:+0100
TZOFFSETTO:+0000
TZNAME:GMT
DTSTART:20271031T010000
END:STANDARD
END:VTIMEZONE
BEGIN:VEVENT
DTSTART;TZID=Europe/London:20260421T100000
DTEND;TZID=Europe/London:20260426T163000
DTSTAMP:20260421T182640
CREATED:20260413T151545Z
LAST-MODIFIED:20260413T151545Z
UID:11693-1776765600-1777221000@insidechiswick.com
SUMMARY:Gunnersbury Unlocked: From Private Grounds to Public Park - Gunnersbury Park
DESCRIPTION:Gunnersbury Unlocked: From Private Grounds to Public Park’ is the first in a series of exhibitions that explore how the park has been used and enjoyed by the people who lived\, worked and played here. Help celebrate Gunnersbury Park’s 100 birthday. They’re excited to kick off this centenary year with \nLocation: Gunnersbury Park and Museum\, Gunnersbury Park\, W3 8LQ
URL:https://insidechiswick.com/event/gunnersbury-unlocked-from-private-grounds-to-public-park-gunnersbury-park-5/
END:VEVENT
END:VCALENDAR