BEGIN:VCALENDAR
VERSION:2.0
PRODID:-//Inside Chiswick - ECPv6.15.18//NONSGML v1.0//EN
CALSCALE:GREGORIAN
METHOD:PUBLISH
X-WR-CALNAME:Inside Chiswick
X-ORIGINAL-URL:https://insidechiswick.com
X-WR-CALDESC:Events for Inside Chiswick
REFRESH-INTERVAL;VALUE=DURATION:PT1H
X-Robots-Tag:noindex
X-PUBLISHED-TTL:PT1H
BEGIN:VTIMEZONE
TZID:Europe/London
BEGIN:DAYLIGHT
TZOFFSETFROM:+0000
TZOFFSETTO:+0100
TZNAME:BST
DTSTART:20250330T010000
END:DAYLIGHT
BEGIN:STANDARD
TZOFFSETFROM:+0100
TZOFFSETTO:+0000
TZNAME:GMT
DTSTART:20251026T010000
END:STANDARD
BEGIN:DAYLIGHT
TZOFFSETFROM:+0000
TZOFFSETTO:+0100
TZNAME:BST
DTSTART:20260329T010000
END:DAYLIGHT
BEGIN:STANDARD
TZOFFSETFROM:+0100
TZOFFSETTO:+0000
TZNAME:GMT
DTSTART:20261025T010000
END:STANDARD
BEGIN:DAYLIGHT
TZOFFSETFROM:+0000
TZOFFSETTO:+0100
TZNAME:BST
DTSTART:20270328T010000
END:DAYLIGHT
BEGIN:STANDARD
TZOFFSETFROM:+0100
TZOFFSETTO:+0000
TZNAME:GMT
DTSTART:20271031T010000
END:STANDARD
END:VTIMEZONE
BEGIN:VEVENT
DTSTART;TZID=Europe/London:20260421T194500
DTEND;TZID=Europe/London:20260426T170000
DTSTAMP:20260421T193849
CREATED:20260413T151529Z
LAST-MODIFIED:20260413T151529Z
UID:11580-1776800700-1777222800@insidechiswick.com
SUMMARY:Heartsink: A Bittersweet Medical Comedy - Riverside Studios
DESCRIPTION:“After years in practice\, seeing through a doctor’s eyes\, I find myself on a crash-course as the patient. The view isn’t quite so attractive from this side\, you’d be surprised to know.” In this bitingly funny\, bittersweet comedy\, served with a healthy dose of gallows humour and a slice of magical ca \nLocation: Riverside Studios\, 101 Queen Caroline Street\, W6 9BN
URL:https://insidechiswick.com/event/heartsink-a-bittersweet-medical-comedy-riverside-studios-3/
END:VEVENT
END:VCALENDAR