BEGIN:VCALENDAR
VERSION:2.0
PRODID:-//Inside Chiswick - ECPv6.15.18//NONSGML v1.0//EN
CALSCALE:GREGORIAN
METHOD:PUBLISH
X-WR-CALNAME:Inside Chiswick
X-ORIGINAL-URL:https://insidechiswick.com
X-WR-CALDESC:Events for Inside Chiswick
REFRESH-INTERVAL;VALUE=DURATION:PT1H
X-Robots-Tag:noindex
X-PUBLISHED-TTL:PT1H
BEGIN:VTIMEZONE
TZID:Europe/London
BEGIN:DAYLIGHT
TZOFFSETFROM:+0000
TZOFFSETTO:+0100
TZNAME:BST
DTSTART:20250330T010000
END:DAYLIGHT
BEGIN:STANDARD
TZOFFSETFROM:+0100
TZOFFSETTO:+0000
TZNAME:GMT
DTSTART:20251026T010000
END:STANDARD
BEGIN:DAYLIGHT
TZOFFSETFROM:+0000
TZOFFSETTO:+0100
TZNAME:BST
DTSTART:20260329T010000
END:DAYLIGHT
BEGIN:STANDARD
TZOFFSETFROM:+0100
TZOFFSETTO:+0000
TZNAME:GMT
DTSTART:20261025T010000
END:STANDARD
BEGIN:DAYLIGHT
TZOFFSETFROM:+0000
TZOFFSETTO:+0100
TZNAME:BST
DTSTART:20270328T010000
END:DAYLIGHT
BEGIN:STANDARD
TZOFFSETFROM:+0100
TZOFFSETTO:+0000
TZNAME:GMT
DTSTART:20271031T010000
END:STANDARD
END:VTIMEZONE
BEGIN:VEVENT
DTSTART;TZID=Europe/London:20260426T104500
DTEND;TZID=Europe/London:20260426T121500
DTSTAMP:20260421T182640
CREATED:20260413T151540Z
LAST-MODIFIED:20260413T151540Z
UID:11656-1777200300-1777205700@insidechiswick.com
SUMMARY:Iya London Walks: Askew Village walk - 128 Askew Rd
DESCRIPTION:A walk exploring the impact of two world wars on the area surrounding Askew Road\, London\, and post-1945 reconstruction efforts. You’ll explore the impact of bombing on the area\, assisted by bomb damage maps and hear about the impact of the 1944 “Little Blitz” on this area of London \nLocation: Ravenscourt Park\, Paddenswick Road Hammersmith\, W6 0UA
URL:https://insidechiswick.com/event/iya-london-walks-askew-village-walk-128-askew-rd/
END:VEVENT
END:VCALENDAR