BEGIN:VCALENDAR
VERSION:2.0
PRODID:-//Inside Chiswick - ECPv6.15.18//NONSGML v1.0//EN
CALSCALE:GREGORIAN
METHOD:PUBLISH
X-WR-CALNAME:Inside Chiswick
X-ORIGINAL-URL:https://insidechiswick.com
X-WR-CALDESC:Events for Inside Chiswick
REFRESH-INTERVAL;VALUE=DURATION:PT1H
X-Robots-Tag:noindex
X-PUBLISHED-TTL:PT1H
BEGIN:VTIMEZONE
TZID:Europe/London
BEGIN:DAYLIGHT
TZOFFSETFROM:+0000
TZOFFSETTO:+0100
TZNAME:BST
DTSTART:20250330T010000
END:DAYLIGHT
BEGIN:STANDARD
TZOFFSETFROM:+0100
TZOFFSETTO:+0000
TZNAME:GMT
DTSTART:20251026T010000
END:STANDARD
BEGIN:DAYLIGHT
TZOFFSETFROM:+0000
TZOFFSETTO:+0100
TZNAME:BST
DTSTART:20260329T010000
END:DAYLIGHT
BEGIN:STANDARD
TZOFFSETFROM:+0100
TZOFFSETTO:+0000
TZNAME:GMT
DTSTART:20261025T010000
END:STANDARD
BEGIN:DAYLIGHT
TZOFFSETFROM:+0000
TZOFFSETTO:+0100
TZNAME:BST
DTSTART:20270328T010000
END:DAYLIGHT
BEGIN:STANDARD
TZOFFSETFROM:+0100
TZOFFSETTO:+0000
TZNAME:GMT
DTSTART:20271031T010000
END:STANDARD
END:VTIMEZONE
BEGIN:VEVENT
DTSTART;TZID=Europe/London:20260423T200000
DTEND;TZID=Europe/London:20260423T200000
DTSTAMP:20260421T154335
CREATED:20260413T151526Z
LAST-MODIFIED:20260413T151526Z
UID:11552-1776974400-1776974400@insidechiswick.com
SUMMARY:Pub Quiz - The Duchess Pub
DESCRIPTION:One of Hammersmith’s best quiz nights. Every Thursday\, The Duchess pub fills with friendly faces\, quick brains\, and plenty of laughs. Bring your team\, grab a pint\, and settle in for rounds that mix general knowledge with a few curveballs. It’s competitive in the best way and always a cracking night  \nLocation: The Duchess\, 320 Goldhawk Rd\, W6 0XF
URL:https://insidechiswick.com/event/pub-quiz-the-duchess-pub/
END:VEVENT
END:VCALENDAR