BEGIN:VCALENDAR
VERSION:2.0
PRODID:-//Inside Chiswick - ECPv6.15.18//NONSGML v1.0//EN
CALSCALE:GREGORIAN
METHOD:PUBLISH
X-WR-CALNAME:Inside Chiswick
X-ORIGINAL-URL:https://insidechiswick.com
X-WR-CALDESC:Events for Inside Chiswick
REFRESH-INTERVAL;VALUE=DURATION:PT1H
X-Robots-Tag:noindex
X-PUBLISHED-TTL:PT1H
BEGIN:VTIMEZONE
TZID:Europe/London
BEGIN:DAYLIGHT
TZOFFSETFROM:+0000
TZOFFSETTO:+0100
TZNAME:BST
DTSTART:20250330T010000
END:DAYLIGHT
BEGIN:STANDARD
TZOFFSETFROM:+0100
TZOFFSETTO:+0000
TZNAME:GMT
DTSTART:20251026T010000
END:STANDARD
BEGIN:DAYLIGHT
TZOFFSETFROM:+0000
TZOFFSETTO:+0100
TZNAME:BST
DTSTART:20260329T010000
END:DAYLIGHT
BEGIN:STANDARD
TZOFFSETFROM:+0100
TZOFFSETTO:+0000
TZNAME:GMT
DTSTART:20261025T010000
END:STANDARD
BEGIN:DAYLIGHT
TZOFFSETFROM:+0000
TZOFFSETTO:+0100
TZNAME:BST
DTSTART:20270328T010000
END:DAYLIGHT
BEGIN:STANDARD
TZOFFSETFROM:+0100
TZOFFSETTO:+0000
TZNAME:GMT
DTSTART:20271031T010000
END:STANDARD
END:VTIMEZONE
BEGIN:VEVENT
DTSTART;TZID=Europe/London:20260423T190000
DTEND;TZID=Europe/London:20260423T190000
DTSTAMP:20260421T154002
CREATED:20260413T151545Z
LAST-MODIFIED:20260413T151545Z
UID:11705-1776970800-1776970800@insidechiswick.com
SUMMARY:Quiz Night - School Kitchen Chiswick
DESCRIPTION:School Kitchen Chiswick is a new bar and restaurant that opened in Autumn 2024\, now hosting exciting events such as Quiz Night. Starting on Thursday 12 December 2024\, School Kitchen Chiswick will be hosting a quiz night every Thursday at 7pm. Booking not required\, but please RSVP to be added to the  \nLocation: The Pavilion\, School Kitchen Chiswick\, Cricket Pavilion\, Latymer Sports Grounds\, Hartington Road\,\, W4 3AN
URL:https://insidechiswick.com/event/quiz-night-school-kitchen-chiswick-5/
END:VEVENT
END:VCALENDAR