BEGIN:VCALENDAR
VERSION:2.0
PRODID:-//Inside Chiswick - ECPv6.15.18//NONSGML v1.0//EN
CALSCALE:GREGORIAN
METHOD:PUBLISH
X-WR-CALNAME:Inside Chiswick
X-ORIGINAL-URL:https://insidechiswick.com
X-WR-CALDESC:Events for Inside Chiswick
REFRESH-INTERVAL;VALUE=DURATION:PT1H
X-Robots-Tag:noindex
X-PUBLISHED-TTL:PT1H
BEGIN:VTIMEZONE
TZID:Europe/London
BEGIN:DAYLIGHT
TZOFFSETFROM:+0000
TZOFFSETTO:+0100
TZNAME:BST
DTSTART:20250330T010000
END:DAYLIGHT
BEGIN:STANDARD
TZOFFSETFROM:+0100
TZOFFSETTO:+0000
TZNAME:GMT
DTSTART:20251026T010000
END:STANDARD
BEGIN:DAYLIGHT
TZOFFSETFROM:+0000
TZOFFSETTO:+0100
TZNAME:BST
DTSTART:20260329T010000
END:DAYLIGHT
BEGIN:STANDARD
TZOFFSETFROM:+0100
TZOFFSETTO:+0000
TZNAME:GMT
DTSTART:20261025T010000
END:STANDARD
BEGIN:DAYLIGHT
TZOFFSETFROM:+0000
TZOFFSETTO:+0100
TZNAME:BST
DTSTART:20270328T010000
END:DAYLIGHT
BEGIN:STANDARD
TZOFFSETFROM:+0100
TZOFFSETTO:+0000
TZNAME:GMT
DTSTART:20271031T010000
END:STANDARD
END:VTIMEZONE
BEGIN:VEVENT
DTSTART;TZID=Europe/London:20260407T100000
DTEND;TZID=Europe/London:20260430T180000
DTSTAMP:20260421T180903
CREATED:20260421T144401Z
LAST-MODIFIED:20260421T144632Z
UID:11582-1775556000-1777572000@insidechiswick.com
SUMMARY:Spring Garden Pop-up - The Old Cinema
DESCRIPTION:This spring\, The Old Cinema invites you to explore a seasonal garden pop-up featuring a special collection of antique outdoor furniture\, architectural ornaments\, and decorative treasures. Running from 19 March through the end of April\, the event is curated by resident dealer Mark Purkiss of Claytons \nLocation: The Old Cinema\, 160 Chiswick High Road\, W4 1PR
URL:https://insidechiswick.com/event/spring-garden-pop-up-the-old-cinema/
LOCATION:Old Cinema test\, 52 Kempton House\, Chiswick\, London\, W4 2ER\, United Kingdom
END:VEVENT
END:VCALENDAR