BEGIN:VCALENDAR
VERSION:2.0
PRODID:-//Inside Chiswick - ECPv6.15.18//NONSGML v1.0//EN
CALSCALE:GREGORIAN
METHOD:PUBLISH
X-WR-CALNAME:Inside Chiswick
X-ORIGINAL-URL:https://insidechiswick.com
X-WR-CALDESC:Events for Inside Chiswick
REFRESH-INTERVAL;VALUE=DURATION:PT1H
X-Robots-Tag:noindex
X-PUBLISHED-TTL:PT1H
BEGIN:VTIMEZONE
TZID:Europe/London
BEGIN:DAYLIGHT
TZOFFSETFROM:+0000
TZOFFSETTO:+0100
TZNAME:BST
DTSTART:20250330T010000
END:DAYLIGHT
BEGIN:STANDARD
TZOFFSETFROM:+0100
TZOFFSETTO:+0000
TZNAME:GMT
DTSTART:20251026T010000
END:STANDARD
BEGIN:DAYLIGHT
TZOFFSETFROM:+0000
TZOFFSETTO:+0100
TZNAME:BST
DTSTART:20260329T010000
END:DAYLIGHT
BEGIN:STANDARD
TZOFFSETFROM:+0100
TZOFFSETTO:+0000
TZNAME:GMT
DTSTART:20261025T010000
END:STANDARD
BEGIN:DAYLIGHT
TZOFFSETFROM:+0000
TZOFFSETTO:+0100
TZNAME:BST
DTSTART:20270328T010000
END:DAYLIGHT
BEGIN:STANDARD
TZOFFSETFROM:+0100
TZOFFSETTO:+0000
TZNAME:GMT
DTSTART:20271031T010000
END:STANDARD
END:VTIMEZONE
BEGIN:VEVENT
DTSTART;TZID=Europe/London:20260421T161500
DTEND;TZID=Europe/London:20260421T171500
DTSTAMP:20260421T182422
CREATED:20260413T151526Z
LAST-MODIFIED:20260413T151526Z
UID:11555-1776788100-1776791700@insidechiswick.com
SUMMARY:Summer Term 2026 Chess Club - St Peter's Church
DESCRIPTION:Chess Classes for children aged 7+ at St Peter’s Church starting on Tuesdays\, 14 April 2026. Chess is the most exciting and challenging game of strategy ever invented. Learning to play chess is surprisingly easy. During the lessons\, the children will learn how all the pieces move\, chess notati \nLocation: St Peter’s Church\, St Peter’s Church\, Southfield Road\, W4 1BB
URL:https://insidechiswick.com/event/summer-term-2026-chess-club-st-peters-church/
END:VEVENT
END:VCALENDAR