BEGIN:VCALENDAR
VERSION:2.0
PRODID:-//Inside Chiswick - ECPv6.15.18//NONSGML v1.0//EN
CALSCALE:GREGORIAN
METHOD:PUBLISH
X-WR-CALNAME:Inside Chiswick
X-ORIGINAL-URL:https://insidechiswick.com
X-WR-CALDESC:Events for Inside Chiswick
REFRESH-INTERVAL;VALUE=DURATION:PT1H
X-Robots-Tag:noindex
X-PUBLISHED-TTL:PT1H
BEGIN:VTIMEZONE
TZID:Europe/London
BEGIN:DAYLIGHT
TZOFFSETFROM:+0000
TZOFFSETTO:+0100
TZNAME:BST
DTSTART:20250330T010000
END:DAYLIGHT
BEGIN:STANDARD
TZOFFSETFROM:+0100
TZOFFSETTO:+0000
TZNAME:GMT
DTSTART:20251026T010000
END:STANDARD
BEGIN:DAYLIGHT
TZOFFSETFROM:+0000
TZOFFSETTO:+0100
TZNAME:BST
DTSTART:20260329T010000
END:DAYLIGHT
BEGIN:STANDARD
TZOFFSETFROM:+0100
TZOFFSETTO:+0000
TZNAME:GMT
DTSTART:20261025T010000
END:STANDARD
BEGIN:DAYLIGHT
TZOFFSETFROM:+0000
TZOFFSETTO:+0100
TZNAME:BST
DTSTART:20270328T010000
END:DAYLIGHT
BEGIN:STANDARD
TZOFFSETFROM:+0100
TZOFFSETTO:+0000
TZNAME:GMT
DTSTART:20271031T010000
END:STANDARD
END:VTIMEZONE
BEGIN:VEVENT
DTSTART;TZID=Europe/London:20260420T200000
DTEND;TZID=Europe/London:20260420T213000
DTSTAMP:20260421T193802
CREATED:20260413T151540Z
LAST-MODIFIED:20260413T151540Z
UID:11669-1776715200-1776720600@insidechiswick.com
SUMMARY:The Buskerteers Choir - Age Concern building
DESCRIPTION:The Buskerteers\, a national choir covering the south east of England\, has about 1500 members and has recently opened a branch in Chiswick. The Buskerteers are an award-winning\, local community choir that raises money for charity\, open to anyone\, and you don’t need to audition. It takes place on Mond \nLocation: The Friendship Club\, The Friendship Club\, Oxford Road North\, Chiswick\, W4 4DN
URL:https://insidechiswick.com/event/the-buskerteers-choir-age-concern-building-2/
END:VEVENT
END:VCALENDAR