BEGIN:VCALENDAR
VERSION:2.0
PRODID:-//Inside Chiswick - ECPv6.15.18//NONSGML v1.0//EN
CALSCALE:GREGORIAN
METHOD:PUBLISH
X-WR-CALNAME:Inside Chiswick
X-ORIGINAL-URL:https://insidechiswick.com
X-WR-CALDESC:Events for Inside Chiswick
REFRESH-INTERVAL;VALUE=DURATION:PT1H
X-Robots-Tag:noindex
X-PUBLISHED-TTL:PT1H
BEGIN:VTIMEZONE
TZID:Europe/London
BEGIN:DAYLIGHT
TZOFFSETFROM:+0000
TZOFFSETTO:+0100
TZNAME:BST
DTSTART:20250330T010000
END:DAYLIGHT
BEGIN:STANDARD
TZOFFSETFROM:+0100
TZOFFSETTO:+0000
TZNAME:GMT
DTSTART:20251026T010000
END:STANDARD
BEGIN:DAYLIGHT
TZOFFSETFROM:+0000
TZOFFSETTO:+0100
TZNAME:BST
DTSTART:20260329T010000
END:DAYLIGHT
BEGIN:STANDARD
TZOFFSETFROM:+0100
TZOFFSETTO:+0000
TZNAME:GMT
DTSTART:20261025T010000
END:STANDARD
BEGIN:DAYLIGHT
TZOFFSETFROM:+0000
TZOFFSETTO:+0100
TZNAME:BST
DTSTART:20270328T010000
END:DAYLIGHT
BEGIN:STANDARD
TZOFFSETFROM:+0100
TZOFFSETTO:+0000
TZNAME:GMT
DTSTART:20271031T010000
END:STANDARD
END:VTIMEZONE
BEGIN:VEVENT
DTSTART;TZID=Europe/London:20260423T193000
DTEND;TZID=Europe/London:20260423T193000
DTSTAMP:20260421T164932
CREATED:20260413T151534Z
LAST-MODIFIED:20260413T151534Z
UID:11617-1776972600-1776972600@insidechiswick.com
SUMMARY:The Private Mr. Handel - St Michael & All Angels
DESCRIPTION:The Private Mr. Handel is a one-hour introduction in words and pictures to the great composer\, based on Helen Dymond’s acclaimed novel ‘Finding Handel’. The audience will have the opportunity to question the author and buy signed copies of the book. Based firmly on historical fact and a bit of imagi \nLocation: St Michael and All Angels\, St Michael and All Angels Church\, Bath Rd\, W4 1LW
URL:https://insidechiswick.com/event/the-private-mr-handel-st-michael-all-angels/
END:VEVENT
END:VCALENDAR