BEGIN:VCALENDAR
VERSION:2.0
PRODID:-//Inside Chiswick - ECPv6.15.18//NONSGML v1.0//EN
CALSCALE:GREGORIAN
METHOD:PUBLISH
X-WR-CALNAME:Inside Chiswick
X-ORIGINAL-URL:https://insidechiswick.com
X-WR-CALDESC:Events for Inside Chiswick
REFRESH-INTERVAL;VALUE=DURATION:PT1H
X-Robots-Tag:noindex
X-PUBLISHED-TTL:PT1H
BEGIN:VTIMEZONE
TZID:Europe/London
BEGIN:DAYLIGHT
TZOFFSETFROM:+0000
TZOFFSETTO:+0100
TZNAME:BST
DTSTART:20250330T010000
END:DAYLIGHT
BEGIN:STANDARD
TZOFFSETFROM:+0100
TZOFFSETTO:+0000
TZNAME:GMT
DTSTART:20251026T010000
END:STANDARD
BEGIN:DAYLIGHT
TZOFFSETFROM:+0000
TZOFFSETTO:+0100
TZNAME:BST
DTSTART:20260329T010000
END:DAYLIGHT
BEGIN:STANDARD
TZOFFSETFROM:+0100
TZOFFSETTO:+0000
TZNAME:GMT
DTSTART:20261025T010000
END:STANDARD
BEGIN:DAYLIGHT
TZOFFSETFROM:+0000
TZOFFSETTO:+0100
TZNAME:BST
DTSTART:20270328T010000
END:DAYLIGHT
BEGIN:STANDARD
TZOFFSETFROM:+0100
TZOFFSETTO:+0000
TZNAME:GMT
DTSTART:20271031T010000
END:STANDARD
END:VTIMEZONE
BEGIN:VEVENT
DTSTART;TZID=Europe/London:20260423T140000
DTEND;TZID=Europe/London:20260423T160000
DTSTAMP:20260421T181443
CREATED:20260413T151534Z
LAST-MODIFIED:20260413T151534Z
UID:11622-1776952800-1776960000@insidechiswick.com
SUMMARY:Thursday Opera Talks with Ross Alley - Chiswick Memorial Club
DESCRIPTION:The Summer series of opera talks with Ross Alley begins on 23 April and finishes on 16 July. All talks are held at the Chiswick Memorial Club\, Bourne Place\, W4 2EL. Many of the talks are related to upcoming performances at summer opera festivals\, including Glyndebourne\, Garsington\, Grange\, Longborou \nLocation: Chiswick Memorial Club\, Bourne Pl\, Chiswick\, W4 2EL
URL:https://insidechiswick.com/event/thursday-opera-talks-with-ross-alley-chiswick-memorial-club-3/
END:VEVENT
END:VCALENDAR